BEGIN:VCALENDAR
VERSION:2.0
CALSCALE:GREGORIAN
METHOD:PUBLISH
X-WR-TIMEZONE:Australia/Sydney
BEGIN:VTIMEZONE
TZID:Australia/Sydney
BEGIN:STANDARD
TZNAME:AEST
END:STANDARD
END:VTIMEZONE
BEGIN:VEVENT
DTSTART;TZID=Australia/Sydney:20241112T092000
DTEND;TZID=Australia/Sydney:20241112T111500
RRULE:FREQ=WEEKLY;UNTIL=20241115T111500;BYDAY=WE,TH,FR
DTSTAMP:20260421T181603
UID:108
SUMMARY:Swimming 2024 Group 1 (Year 5/6 Group 1)
DESCRIPTION:
SEQUENCE:0
STATUS:CONFIRMED
TRANSP:OPAQUE
END:VEVENT
END:VCALENDAR